BEGIN:VCALENDAR
VERSION:2.0
PRODID:-//Fachschule Gotha – Aufstiegsweiterbildung für Fachkräfte mit Berufsabschluss! - ECPv6.15.20//NONSGML v1.0//EN
CALSCALE:GREGORIAN
METHOD:PUBLISH
X-WR-CALNAME:Fachschule Gotha – Aufstiegsweiterbildung für Fachkräfte mit Berufsabschluss!
X-ORIGINAL-URL:https://fachschule-gotha.de
X-WR-CALDESC:Veranstaltungen für Fachschule Gotha – Aufstiegsweiterbildung für Fachkräfte mit Berufsabschluss!
REFRESH-INTERVAL;VALUE=DURATION:PT1H
X-Robots-Tag:noindex
X-PUBLISHED-TTL:PT1H
BEGIN:VTIMEZONE
TZID:Europe/Berlin
BEGIN:DAYLIGHT
TZOFFSETFROM:+0100
TZOFFSETTO:+0200
TZNAME:CEST
DTSTART:20250330T010000
END:DAYLIGHT
BEGIN:STANDARD
TZOFFSETFROM:+0200
TZOFFSETTO:+0100
TZNAME:CET
DTSTART:20251026T010000
END:STANDARD
BEGIN:DAYLIGHT
TZOFFSETFROM:+0100
TZOFFSETTO:+0200
TZNAME:CEST
DTSTART:20260329T010000
END:DAYLIGHT
BEGIN:STANDARD
TZOFFSETFROM:+0200
TZOFFSETTO:+0100
TZNAME:CET
DTSTART:20261025T010000
END:STANDARD
BEGIN:DAYLIGHT
TZOFFSETFROM:+0100
TZOFFSETTO:+0200
TZNAME:CEST
DTSTART:20270328T010000
END:DAYLIGHT
BEGIN:STANDARD
TZOFFSETFROM:+0200
TZOFFSETTO:+0100
TZNAME:CET
DTSTART:20271031T010000
END:STANDARD
END:VTIMEZONE
BEGIN:VEVENT
DTSTART;TZID=Europe/Berlin:20260129T190000
DTEND;TZID=Europe/Berlin:20260129T235900
DTSTAMP:20260421T144832
CREATED:20251117T070355Z
LAST-MODIFIED:20260203T065900Z
UID:4221-1769713200-1769731140@fachschule-gotha.de
SUMMARY:Fachschulfasching 2026
DESCRIPTION:Ein Ball so geheimnisvoll\, wie die Gesichter selbst.
URL:https://fachschule-gotha.de/event/4221/
LOCATION:Mensabar der Fachschule Gotha\, Eisenacher Str. 50\, Gotha\, Thüringen\, 99887\, Deutschland
ATTACH;FMTTYPE=image/png:https://fachschule-gotha.de/wp-content/uploads/2025/11/Flyer-Fasching.png
ORGANIZER;CN="Staatliche Fachschule f%C3%BCr Bau%2C Wirtschaft und Verkehr Gotha":MAILTO:poststelle@fachschule-gotha.thueringen.de
END:VEVENT
END:VCALENDAR