BEGIN:VCALENDAR
VERSION:2.0
PRODID:-//Fachschule Gotha – Aufstiegsweiterbildung für Fachkräfte mit Berufsabschluss! - ECPv6.15.20//NONSGML v1.0//EN
CALSCALE:GREGORIAN
METHOD:PUBLISH
X-WR-CALNAME:Fachschule Gotha – Aufstiegsweiterbildung für Fachkräfte mit Berufsabschluss!
X-ORIGINAL-URL:https://fachschule-gotha.de
X-WR-CALDESC:Veranstaltungen für Fachschule Gotha – Aufstiegsweiterbildung für Fachkräfte mit Berufsabschluss!
REFRESH-INTERVAL;VALUE=DURATION:PT1H
X-Robots-Tag:noindex
X-PUBLISHED-TTL:PT1H
BEGIN:VTIMEZONE
TZID:Europe/Berlin
BEGIN:DAYLIGHT
TZOFFSETFROM:+0100
TZOFFSETTO:+0200
TZNAME:CEST
DTSTART:20250330T010000
END:DAYLIGHT
BEGIN:STANDARD
TZOFFSETFROM:+0200
TZOFFSETTO:+0100
TZNAME:CET
DTSTART:20251026T010000
END:STANDARD
BEGIN:DAYLIGHT
TZOFFSETFROM:+0100
TZOFFSETTO:+0200
TZNAME:CEST
DTSTART:20260329T010000
END:DAYLIGHT
BEGIN:STANDARD
TZOFFSETFROM:+0200
TZOFFSETTO:+0100
TZNAME:CET
DTSTART:20261025T010000
END:STANDARD
BEGIN:DAYLIGHT
TZOFFSETFROM:+0100
TZOFFSETTO:+0200
TZNAME:CEST
DTSTART:20270328T010000
END:DAYLIGHT
BEGIN:STANDARD
TZOFFSETFROM:+0200
TZOFFSETTO:+0100
TZNAME:CET
DTSTART:20271031T010000
END:STANDARD
END:VTIMEZONE
BEGIN:VEVENT
DTSTART;TZID=Europe/Berlin:20260307T100000
DTEND;TZID=Europe/Berlin:20260307T140000
DTSTAMP:20260421T173708
CREATED:20251105T085734Z
LAST-MODIFIED:20260311T142408Z
UID:4202-1772877600-1772892000@fachschule-gotha.de
SUMMARY:2. Tag der offenen Tür 2026
DESCRIPTION:Am 07.03.2026 findet der zweite Tag der offenen Tür in diesem Schuljahr statt. \n\n\n\nEr bietet die Gelegenheit\, sich über die Möglichkeiten einer Aufstiegsweiterbildung zu \n\n\n\nStaatlich geprüften Betriebswirtinnen und Betriebswirten \n\n\n\noder \n\n\n\nStaatlich geprüften Technikerinnen und Technikern \n\n\n\nzu informieren und im nächsten Schuljahr 2026/2027 zu beginnen. \n\n\n\nAm Trützschlerplatz informiert die Fachrichtung Bautechnik über die Wahlpflichtmodule Hochbaukonstruktion\, Baudenkmalpflege/Bausanierung\, Tiefbau und Gebäudetechnik (SHK). \n\n\n\nIn der Fachrichtung Betriebswirtschaft informieren wir über die Wahlpflichtmodule Absatzwirtschaft/Marketing\, Rechnungswesen/Controlling und Wirtschaftslogistik. Ebenso über die Zusatzqualifikation zum Staatlich geprüften technischen Betriebswirt. \n\n\n\nIn Schloss Friedrichsthal informiert die Fachrichtung Verkehrstechnik um 10:15 Uhr und 12:00 Uhr über die Wahlpflichtmodule Verkehrsinfrastrukturmanagement\, Eisenbahnbetrieb und Personenverkehrssysteme. Die Beratung findet zu den genannten Zeit auch online unter folgendem Link statt: https://komeet.thueringen.de/room/c21eb863-f37b-416c-a638-e520cd1c4b0b?invite=36b7d6ae-7d29-4b9f-b37c-1e6080a7fb72 \n\n\n\nNähere Informationen zu den Angeboten finden Sie hier: https://fachschule-gotha.de/ausbildungsbereiche/.
URL:https://fachschule-gotha.de/event/2-tag-der-offenen-tuer-2026/
ATTACH;FMTTYPE=image/png:https://fachschule-gotha.de/wp-content/uploads/2025/11/TdoT-07.03.26-Beitrag.png
END:VEVENT
END:VCALENDAR