BEGIN:VCALENDAR
VERSION:2.0
PRODID:-//Fachschule Gotha – Aufstiegsweiterbildung für Fachkräfte mit Berufsabschluss! - ECPv6.15.20//NONSGML v1.0//EN
CALSCALE:GREGORIAN
METHOD:PUBLISH
X-WR-CALNAME:Fachschule Gotha – Aufstiegsweiterbildung für Fachkräfte mit Berufsabschluss!
X-ORIGINAL-URL:https://fachschule-gotha.de
X-WR-CALDESC:Veranstaltungen für Fachschule Gotha – Aufstiegsweiterbildung für Fachkräfte mit Berufsabschluss!
REFRESH-INTERVAL;VALUE=DURATION:PT1H
X-Robots-Tag:noindex
X-PUBLISHED-TTL:PT1H
BEGIN:VTIMEZONE
TZID:Europe/Berlin
BEGIN:DAYLIGHT
TZOFFSETFROM:+0100
TZOFFSETTO:+0200
TZNAME:CEST
DTSTART:20250330T010000
END:DAYLIGHT
BEGIN:STANDARD
TZOFFSETFROM:+0200
TZOFFSETTO:+0100
TZNAME:CET
DTSTART:20251026T010000
END:STANDARD
BEGIN:DAYLIGHT
TZOFFSETFROM:+0100
TZOFFSETTO:+0200
TZNAME:CEST
DTSTART:20260329T010000
END:DAYLIGHT
BEGIN:STANDARD
TZOFFSETFROM:+0200
TZOFFSETTO:+0100
TZNAME:CET
DTSTART:20261025T010000
END:STANDARD
BEGIN:DAYLIGHT
TZOFFSETFROM:+0100
TZOFFSETTO:+0200
TZNAME:CEST
DTSTART:20270328T010000
END:DAYLIGHT
BEGIN:STANDARD
TZOFFSETFROM:+0200
TZOFFSETTO:+0100
TZNAME:CET
DTSTART:20271031T010000
END:STANDARD
END:VTIMEZONE
BEGIN:VEVENT
DTSTART;TZID=Europe/Berlin:20260509T100000
DTEND;TZID=Europe/Berlin:20260509T130000
DTSTAMP:20260423T123043
CREATED:20251105T085918Z
LAST-MODIFIED:20260414T060624Z
UID:4204-1778320800-1778331600@fachschule-gotha.de
SUMMARY:3. Tag der offenen Tür 2026
DESCRIPTION:Am 09.05.2026 findet der dritte Tag der offenen Tür in diesem Schuljahr statt. \n\n\n\nEr bietet die Gelegenheit\, sich über die Möglichkeiten einer Aufstiegsweiterbildung zu \n\n\n\nStaatlich geprüften Betriebswirtinnen und Betriebswirten \n\n\n\noder \n\n\n\nStaatlich geprüften Technikerinnen und Technikern \n\n\n\nzu informieren und im nächsten Schuljahr 2026/2027 zu beginnen. \n\n\n\nAm Trützschlerplatz informiert die Fachrichtung Bautechnik über die Wahlpflichtmodule Hochbaukonstruktion\, Baudenkmalpflege/Bausanierung\, Tiefbau und Gebäudetechnik (SHK). \n\n\n\nIn der Fachrichtung Betriebswirtschaft informieren wir über die Wahlpflichtmodule Absatzwirtschaft/Marketing\, Rechnungswesen/Controlling und Wirtschaftslogistik. Ebenso über die Zusatzqualifikation zum Staatlich geprüften technischen Betriebswirt. \n\n\n\nIn Schloss Friedrichsthal informiert die Fachrichtung Verkehrstechnik um 10:45 Uhr im Vortrag über die Wahlpflichtmodule Verkehrsinfrastrukturmanagement\, Eisenbahnbetrieb und Personenverkehrssysteme. \n\n\n\nNähere Informationen zu den Angeboten finden Sie hier: https://fachschule-gotha.de/ausbildung/
URL:https://fachschule-gotha.de/event/3-tag-der-offenen-tuer-2026/
CATEGORIES:Highlight
ATTACH;FMTTYPE=image/png:https://fachschule-gotha.de/wp-content/uploads/2025/11/TdoT-09.05.2026-Beitrag.png
END:VEVENT
END:VCALENDAR