BEGIN:VCALENDAR
VERSION:2.0
PRODID:-//Fachschule Gotha – Aufstiegsweiterbildung für Fachkräfte mit Berufsabschluss! - ECPv6.15.20//NONSGML v1.0//EN
CALSCALE:GREGORIAN
METHOD:PUBLISH
X-ORIGINAL-URL:https://fachschule-gotha.de
X-WR-CALDESC:Veranstaltungen für Fachschule Gotha – Aufstiegsweiterbildung für Fachkräfte mit Berufsabschluss!
REFRESH-INTERVAL;VALUE=DURATION:PT1H
X-Robots-Tag:noindex
X-PUBLISHED-TTL:PT1H
BEGIN:VTIMEZONE
TZID:Europe/Berlin
BEGIN:DAYLIGHT
TZOFFSETFROM:+0100
TZOFFSETTO:+0200
TZNAME:CEST
DTSTART:20250330T010000
END:DAYLIGHT
BEGIN:STANDARD
TZOFFSETFROM:+0200
TZOFFSETTO:+0100
TZNAME:CET
DTSTART:20251026T010000
END:STANDARD
BEGIN:DAYLIGHT
TZOFFSETFROM:+0100
TZOFFSETTO:+0200
TZNAME:CEST
DTSTART:20260329T010000
END:DAYLIGHT
BEGIN:STANDARD
TZOFFSETFROM:+0200
TZOFFSETTO:+0100
TZNAME:CET
DTSTART:20261025T010000
END:STANDARD
BEGIN:DAYLIGHT
TZOFFSETFROM:+0100
TZOFFSETTO:+0200
TZNAME:CEST
DTSTART:20270328T010000
END:DAYLIGHT
BEGIN:STANDARD
TZOFFSETFROM:+0200
TZOFFSETTO:+0100
TZNAME:CET
DTSTART:20271031T010000
END:STANDARD
END:VTIMEZONE
BEGIN:VEVENT
DTSTART;TZID=Europe/Berlin:20261029T080000
DTEND;TZID=Europe/Berlin:20261029T160000
DTSTAMP:20260423T123547
CREATED:20260312T121615Z
LAST-MODIFIED:20260312T121615Z
UID:4441-1793260800-1793289600@fachschule-gotha.de
SUMMARY:Gothaer Baufachtagung
DESCRIPTION:
URL:https://fachschule-gotha.de/event/gothaer-baufachtagung/
CATEGORIES:Veranstaltung
ATTACH;FMTTYPE=image/png:https://fachschule-gotha.de/wp-content/uploads/2026/03/Baufachtagung-2026-e1773317495918.png
END:VEVENT
END:VCALENDAR