BEGIN:VCALENDAR
VERSION:2.0
PRODID:-//Fachschule Gotha – Aufstiegsweiterbildung für Fachkräfte mit Berufsabschluss! - ECPv6.15.20//NONSGML v1.0//EN
CALSCALE:GREGORIAN
METHOD:PUBLISH
X-ORIGINAL-URL:https://fachschule-gotha.de
X-WR-CALDESC:Veranstaltungen für Fachschule Gotha – Aufstiegsweiterbildung für Fachkräfte mit Berufsabschluss!
REFRESH-INTERVAL;VALUE=DURATION:PT1H
X-Robots-Tag:noindex
X-PUBLISHED-TTL:PT1H
BEGIN:VTIMEZONE
TZID:Europe/Berlin
BEGIN:DAYLIGHT
TZOFFSETFROM:+0100
TZOFFSETTO:+0200
TZNAME:CEST
DTSTART:20220327T010000
END:DAYLIGHT
BEGIN:STANDARD
TZOFFSETFROM:+0200
TZOFFSETTO:+0100
TZNAME:CET
DTSTART:20221030T010000
END:STANDARD
BEGIN:DAYLIGHT
TZOFFSETFROM:+0100
TZOFFSETTO:+0200
TZNAME:CEST
DTSTART:20230326T010000
END:DAYLIGHT
BEGIN:STANDARD
TZOFFSETFROM:+0200
TZOFFSETTO:+0100
TZNAME:CET
DTSTART:20231029T010000
END:STANDARD
BEGIN:DAYLIGHT
TZOFFSETFROM:+0100
TZOFFSETTO:+0200
TZNAME:CEST
DTSTART:20240331T010000
END:DAYLIGHT
BEGIN:STANDARD
TZOFFSETFROM:+0200
TZOFFSETTO:+0100
TZNAME:CET
DTSTART:20241027T010000
END:STANDARD
BEGIN:DAYLIGHT
TZOFFSETFROM:+0100
TZOFFSETTO:+0200
TZNAME:CEST
DTSTART:20250330T010000
END:DAYLIGHT
BEGIN:STANDARD
TZOFFSETFROM:+0200
TZOFFSETTO:+0100
TZNAME:CET
DTSTART:20251026T010000
END:STANDARD
BEGIN:DAYLIGHT
TZOFFSETFROM:+0100
TZOFFSETTO:+0200
TZNAME:CEST
DTSTART:20260329T010000
END:DAYLIGHT
BEGIN:STANDARD
TZOFFSETFROM:+0200
TZOFFSETTO:+0100
TZNAME:CET
DTSTART:20261025T010000
END:STANDARD
BEGIN:DAYLIGHT
TZOFFSETFROM:+0100
TZOFFSETTO:+0200
TZNAME:CEST
DTSTART:20270328T010000
END:DAYLIGHT
BEGIN:STANDARD
TZOFFSETFROM:+0200
TZOFFSETTO:+0100
TZNAME:CET
DTSTART:20271031T010000
END:STANDARD
END:VTIMEZONE
BEGIN:VEVENT
DTSTART;TZID=Europe/Berlin:20260319T120000
DTEND;TZID=Europe/Berlin:20260319T133000
DTSTAMP:20260423T163859
CREATED:20260311T143213Z
LAST-MODIFIED:20260324T140154Z
UID:4438-1773921600-1773927000@fachschule-gotha.de
SUMMARY:DKMS-Registrierungsaktion
DESCRIPTION:Leben retten – so einfach kann es sein! \n\n\n\nIm Rahmen der Fachschulmesse CONNECT habt ihr die Möglichkeit\, euch bei der DKMS als Stammzellspender/-in registrieren zu lassen. Jede Registrierung kann für Menschen mit Blutkrebs die Chance auf ein neues Leben bedeuten.
URL:https://fachschule-gotha.de/event/dkms-registrierungsaktion/
ATTACH;FMTTYPE=image/png:https://fachschule-gotha.de/wp-content/uploads/2026/03/Feed-Fachschulmesse-Connect-e1773239640370.png
END:VEVENT
BEGIN:VEVENT
DTSTART;TZID=Europe/Berlin:20260319T113000
DTEND;TZID=Europe/Berlin:20260319T140000
DTSTAMP:20260423T163859
CREATED:20260120T123030Z
LAST-MODIFIED:20260324T140204Z
UID:4291-1773919800-1773928800@fachschule-gotha.de
SUMMARY:12. Firmenkontaktmesse "Connect"
DESCRIPTION:Unsere Firmenkontaktmesse „Connect“ bietet die Gelegenheit\, direkt mit Unternehmen der Region in Kontakt zu treten. Ob Berufseinstieg oder neue Karrieremöglichkeiten – hier warten spannende Perspektiven.
URL:https://fachschule-gotha.de/event/12-firmenkontaktmesse-connect/
ATTACH;FMTTYPE=image/png:https://fachschule-gotha.de/wp-content/uploads/2026/01/12.-Firmenkontaktmesse.png
ORGANIZER;CN="Staatliche Fachschule f%C3%BCr Bau%2C Wirtschaft und Verkehr":MAILTO:poststelle@fachschule-gotha.thueringen.de
END:VEVENT
BEGIN:VEVENT
DTSTART;TZID=Europe/Berlin:20260307T100000
DTEND;TZID=Europe/Berlin:20260307T140000
DTSTAMP:20260423T163859
CREATED:20251105T085734Z
LAST-MODIFIED:20260311T142408Z
UID:4202-1772877600-1772892000@fachschule-gotha.de
SUMMARY:2. Tag der offenen Tür 2026
DESCRIPTION:Am 07.03.2026 findet der zweite Tag der offenen Tür in diesem Schuljahr statt. \n\n\n\nEr bietet die Gelegenheit\, sich über die Möglichkeiten einer Aufstiegsweiterbildung zu \n\n\n\nStaatlich geprüften Betriebswirtinnen und Betriebswirten \n\n\n\noder \n\n\n\nStaatlich geprüften Technikerinnen und Technikern \n\n\n\nzu informieren und im nächsten Schuljahr 2026/2027 zu beginnen. \n\n\n\nAm Trützschlerplatz informiert die Fachrichtung Bautechnik über die Wahlpflichtmodule Hochbaukonstruktion\, Baudenkmalpflege/Bausanierung\, Tiefbau und Gebäudetechnik (SHK). \n\n\n\nIn der Fachrichtung Betriebswirtschaft informieren wir über die Wahlpflichtmodule Absatzwirtschaft/Marketing\, Rechnungswesen/Controlling und Wirtschaftslogistik. Ebenso über die Zusatzqualifikation zum Staatlich geprüften technischen Betriebswirt. \n\n\n\nIn Schloss Friedrichsthal informiert die Fachrichtung Verkehrstechnik um 10:15 Uhr und 12:00 Uhr über die Wahlpflichtmodule Verkehrsinfrastrukturmanagement\, Eisenbahnbetrieb und Personenverkehrssysteme. Die Beratung findet zu den genannten Zeit auch online unter folgendem Link statt: https://komeet.thueringen.de/room/c21eb863-f37b-416c-a638-e520cd1c4b0b?invite=36b7d6ae-7d29-4b9f-b37c-1e6080a7fb72 \n\n\n\nNähere Informationen zu den Angeboten finden Sie hier: https://fachschule-gotha.de/ausbildungsbereiche/.
URL:https://fachschule-gotha.de/event/2-tag-der-offenen-tuer-2026/
ATTACH;FMTTYPE=image/png:https://fachschule-gotha.de/wp-content/uploads/2025/11/TdoT-07.03.26-Beitrag.png
END:VEVENT
BEGIN:VEVENT
DTSTART;TZID=Europe/Berlin:20260131T100000
DTEND;TZID=Europe/Berlin:20260131T130000
DTSTAMP:20260423T163859
CREATED:20251105T085130Z
LAST-MODIFIED:20260203T052713Z
UID:4195-1769853600-1769864400@fachschule-gotha.de
SUMMARY:1. Tag der offenen Tür 2026
DESCRIPTION:Am 31.01.2026 findet der erste Tag der offenen Tür in diesem Schuljahr statt. \n\n\n\nEr bietet die Gelegenheit\, sich über die Möglichkeiten einer Aufstiegsweiterbildung zu \n\n\n\nStaatlich geprüften Betriebswirtinnen und Betriebswirten \n\n\n\noder \n\n\n\nStaatlich geprüften Technikerinnen und Technikern \n\n\n\nzu informieren und im nächsten Schuljahr 2026/2027 zu beginnen. \n\n\n\nAm Trützschlerplatz informiert die Fachrichtung Bautechnik über die Wahlpflichtmodule Hochbaukonstruktion\, Baudenkmalpflege/Bausanierung\, Tiefbau und Gebäudetechnik (SHK). \n\n\n\nIn der Fachrichtung Betriebswirtschaft informieren wir über die Wahlpflichtmodule Absatzwirtschaft/Marketing\, Rechnungswesen/Controlling und Wirtschaftslogistik. Ebenso über die Zusatzqualifikation zum Staatlich geprüften technischen Betriebswirt. \n\n\n\nIn Schloss Friedrichsthal informiert die Fachrichtung Verkehrstechnik um 10:15 Uhr und 11:45 Uhr über die Wahlpflichtmodule Verkehrsinfrastrukturmanagement\, Eisenbahnbetrieb und Personenverkehrssysteme. Die Beratung findet zu den genannten Zeit auch online unter folgendem Link statt: https://komeet.thueringen.de/room/c4f3fbba-157b-406f-8c5f-606867ead233?invite=34a5eed2-62ce-421b-98a2-7eb226045588 \n\n\n\nNähere Informationen zu den Angeboten finden Sie hier: https://fachschule-gotha.de/ausbildungsbereiche/.
URL:https://fachschule-gotha.de/event/1-tag-der-offenen-tuer-2026/
ATTACH;FMTTYPE=image/png:https://fachschule-gotha.de/wp-content/uploads/2025/11/TdoT-31.01.2026-Beitrag.png
END:VEVENT
BEGIN:VEVENT
DTSTART;TZID=Europe/Berlin:20260129T190000
DTEND;TZID=Europe/Berlin:20260129T235900
DTSTAMP:20260423T163859
CREATED:20251117T070355Z
LAST-MODIFIED:20260203T065900Z
UID:4221-1769713200-1769731140@fachschule-gotha.de
SUMMARY:Fachschulfasching 2026
DESCRIPTION:Ein Ball so geheimnisvoll\, wie die Gesichter selbst.
URL:https://fachschule-gotha.de/event/4221/
LOCATION:Mensabar der Fachschule Gotha\, Eisenacher Str. 50\, Gotha\, Thüringen\, 99887\, Deutschland
ATTACH;FMTTYPE=image/png:https://fachschule-gotha.de/wp-content/uploads/2025/11/Flyer-Fasching.png
ORGANIZER;CN="Staatliche Fachschule f%C3%BCr Bau%2C Wirtschaft und Verkehr Gotha":MAILTO:poststelle@fachschule-gotha.thueringen.de
END:VEVENT
BEGIN:VEVENT
DTSTART;TZID=Europe/Berlin:20250404T113000
DTEND;TZID=Europe/Berlin:20250404T140000
DTSTAMP:20260423T163859
CREATED:20250320T083304Z
LAST-MODIFIED:20260114T104340Z
UID:3796-1743766200-1743775200@fachschule-gotha.de
SUMMARY:11. Firmenkontaktmesse "Connect"
DESCRIPTION:Unsere Firmenkontaktmesse „Connect“ bietet die Gelegenheit\, direkt mit Unternehmen der Region in Kontakt zu treten. Ob Berufseinstieg oder neue Karrieremöglichkeiten – hier warten spannende Perspektiven. Zudem präsentieren unsere Abschlussklassen ihre Projektarbeiten und geben einen exklusiven Einblick in ihre Aufstiegsweiterbildung.
URL:https://fachschule-gotha.de/event/11-firmenkontaktmesse-connect/
ATTACH;FMTTYPE=image/png:https://fachschule-gotha.de/wp-content/uploads/2025/03/Flyer-11.-Connect.png
END:VEVENT
BEGIN:VEVENT
DTSTART;TZID=Europe/Berlin:20250308T100000
DTEND;TZID=Europe/Berlin:20250308T140000
DTSTAMP:20260423T163859
CREATED:20250221T101504Z
LAST-MODIFIED:20260114T104348Z
UID:3701-1741428000-1741442400@fachschule-gotha.de
SUMMARY:Tag der offenen Tür am 08. März 2025
DESCRIPTION:Am 08. März 2025 findet der zweite Tag der offenen Tür in diesem Schuljahr statt. \n\n\n\nEr bietet die Gelegenheit\, sich über die Möglichkeiten einer Aufstiegsweiterbildung zu \n\n\n\nStaatlich geprüften Betriebswirtinnen und Betriebswirten \n\n\n\noder \n\n\n\nStaatlich geprüften Technikerinnen und Technikern \n\n\n\nzu informieren und im nächsten Schuljahr 2025/2026 zu beginnen. \n\n\n\nAm Trützschlerplatz informiert die Fachrichtung Bautechnik über die Schwerpunkte  Hochbau\, Bauerneuerung und Bausanierung und Tiefbau. \n\n\n\nAm Trützschlerplatz informiert die Fachrichtung Bautechnik über die Schwerpunkte  Hochbau\, Baudenkmalpflege/Bausanierung\, Tiefbau und Gebäudetechnik (SHK). Onlineteilnehmer können sich um 10:00 Uhr unter folgenden Link einwählen https://sichere-videokonferenz.de/AA7mZLQ4WTKQr und Informationen zu den Ausbildungen erhalten. \n\n\n\nIn der Fachrichtung Betriebswirtschaft informieren wir über die Schwerpunkte Absatzwirtschaft/Marketing und Rechnungswesen/Controlling. Ebenso über die Zusatzqualifikation zum Staatlich geprüften technischen Betriebswirt\, die von Technikern und Meistern besucht werden kann. \n\n\n\nIn Schloss Friedrichsthal informiert die Fachrichtung Verkehrstechnik über die Schwerpunkte Verkehrsmanagement\, Eisenbahnbetrieb und Personenverkehrssysteme. Hierzu gibt es um 10:15 Uhr und um 11:00 Uhr sowie 13:00 Uhr kurze Vorträge. Onlineteilnehmer können sich um 11:00 Uhr und/oder 13:00 Uhr unter folgenden Link einwählen https://sichere-videokonferenz.de/AA7mZLQ4WTKQr. Ein Vertreter der DB InfraGO wird ebenfalls als Ansprechpartner vor Ort sein. \n\n\n\nFür das leibliche Wohl sorgt im Gebäude Trützschlerplatz 1 der Förderverein Inform für 2 e.V. \n\n\n\nNähere Informationen zu den Angeboten finden Sie hier: https://fachschule-gotha.de/ausbildungsbereiche/
URL:https://fachschule-gotha.de/event/tag-der-offenen-tuer-am-08-maerz-2025/
ATTACH;FMTTYPE=image/png:https://fachschule-gotha.de/wp-content/uploads/2025/02/TdoT-08.03.25-Titelbild-Facebook.png
END:VEVENT
BEGIN:VEVENT
DTSTART;TZID=Europe/Berlin:20250125T100000
DTEND;TZID=Europe/Berlin:20250125T130000
DTSTAMP:20260423T163859
CREATED:20241216T132142Z
LAST-MODIFIED:20260114T104506Z
UID:3587-1737799200-1737810000@fachschule-gotha.de
SUMMARY:1. Tag der offenen Tür 2025
DESCRIPTION:Am 25. Januar 2025 findet der erste Tag der offenen Tür in diesem Schuljahr statt. \n\n\n\nEr bietet die Gelegenheit\, sich über die Möglichkeiten einer Aufstiegsweiterbildung zu \n\n\n\nStaatlich geprüften Betriebswirtinnen und Betriebswirten \n\n\n\noder \n\n\n\nStaatlich geprüften Technikerinnen und Technikern \n\n\n\nzu informieren und im nächsten Schuljahr 2025/2026 zu beginnen. \n\n\n\nAm Trützschlerplatz informiert die Fachrichtung Bautechnik über die Schwerpunkte  Hochbau\, Bauerneuerung und Bausanierung und Tiefbau. \n\n\n\nIn der Fachrichtung Betriebswirtschaft informieren wir über die Schwerpunkte Absatzwirtschaft/Marketing und Rechnungswesen/Controlling. Ebenso über die Zusatzqualifikation zum Staatlich geprüften technischen Betriebswirt\, die von Technikern und Meistern besucht werden kann. \n\n\n\nDie Fachrichtungen Informatik und Versorgungstechnik informieren über die Inhalte ihrer Ausbildungen. \n\n\n\nIn Schloss Friedrichsthal informiert die Fachrichtung  Verkehrstechnik über die Schwerpunkte Verkehrsmanagement\, Eisenbahnbetrieb und Personenverkehrssysteme. Hierzu gibt es um 10:15 Uhr und um 12:15 Uhr kurze Vorträge. Onlineteilnehmer können sich im 11:00 Uhr und/oder 13:00 Uhr unter folgenden Link einwählen https://sichere-videokonferenz.de/AA7mZLQ4WTKQr. \n\n\n\nFür das leibliche Wohl sorgt im Gebäude Trützschlerplatz 1 der Förderverein Inform für 2 e.V. \n\n\n\nNähere Informationen zu den Angeboten finden Sie hier: https://fachschule-gotha.de/ausbildungsbereiche/ \n\n\n\nDie Thüringer Lehrpläne gibt es hier: https://www.schulportal-thueringen.de/lehrplaene/berufsbildende_schulen/fachschule
URL:https://fachschule-gotha.de/event/1-tag-der-offene-tuer-2025/
ATTACH;FMTTYPE=image/png:https://fachschule-gotha.de/wp-content/uploads/2024/12/TdoT-25.01.25-Beitrag-komprimiert.png
END:VEVENT
BEGIN:VEVENT
DTSTART;TZID=Europe/Berlin:20250221T190000
DTEND;TZID=Europe/Berlin:20250221T000000
DTSTAMP:20260423T163859
CREATED:20240930T072954Z
LAST-MODIFIED:20260114T104355Z
UID:3426-1740164400-1740096000@fachschule-gotha.de
SUMMARY:Fachschulfasching
DESCRIPTION:Rapunzel\, lass dein Haar herab\, der Fasching läuft als Märchen ab!
URL:https://fachschule-gotha.de/event/fachschulfasching-2/
LOCATION:Mensabar der Fachschule Gotha\, Eisenacher Str. 50\, Gotha\, Thüringen\, 99887\, Deutschland
ATTACH;FMTTYPE=image/png:https://fachschule-gotha.de/wp-content/uploads/2024/09/Fachschulfasching_Maerchen-e1731653117110.png
END:VEVENT
BEGIN:VEVENT
DTSTART;TZID=Europe/Berlin:20241024T090000
DTEND;TZID=Europe/Berlin:20241024T150000
DTSTAMP:20260423T163859
CREATED:20240927T151904Z
LAST-MODIFIED:20260114T104256Z
UID:3418-1729760400-1729782000@fachschule-gotha.de
SUMMARY:23. Gothaer Baufachtagung
DESCRIPTION:Am 24. Oktober 2024 findet die 23. Gothaer Baufachtagung statt. In diesem Jahr widmen wir uns dem wichtigen Thema „Wärmewende und Haustechnik – Herausforderungen an den Gebäudebestand“.Erfahren Sie von Experten aus der Branche\, welche innovativen Lösungen und Strategien es gibt\, um den Herausforderungen der Wärmewende zu begegnen und den bestehenden Gebäudebestand zukunftssicher zu gestalten. Nutzen Sie die Gelegenheit zum Austausch und zur Vernetzung mit Fachkollegen und -kolleginnen. Es erwarten Sie spannende Vorträge: \n\n\n\n1. Wärmewende in (für) Gotha \n\n\n\n2. Aufbau von hybriden Anlagen durch Einbindung von Wärmepumpen in neue und bestehende Heizungsanlagen \n\n\n\n3. Investitionen in die eigene HaustechnikMerken Sie sich den Termin vor – wir freuen uns auf Ihre Teilnahme! \n\n\n\nAnmeldefrist: 22.10.2024 \n\n\n\nEinladung&Anmeldung2024Herunterladen
URL:https://fachschule-gotha.de/event/23-gothaer-baufachtagung/
ATTACH;FMTTYPE=image/jpeg:https://fachschule-gotha.de/wp-content/uploads/2024/09/Plakat-Baufachtag-2024.jpg
END:VEVENT
BEGIN:VEVENT
DTSTART;TZID=Europe/Berlin:20240917T170000
DTEND;TZID=Europe/Berlin:20240917T190000
DTSTAMP:20260423T163859
CREATED:20240913T101416Z
LAST-MODIFIED:20260114T104401Z
UID:3374-1726592400-1726599600@fachschule-gotha.de
SUMMARY:2. Informationsveranstaltung UFO Gründung und Nachfolge von Unternehmen-Entdecke deine berufliche Zukunft!
DESCRIPTION:Gemeinsam mit dem Bundesverband Mittelständische Wirtschaft (BVMW) Kreisverband Gotha und dem Gymnasium Ernestinum Gotha laden wir alle Interessierten herzlich zur Informationsveranstaltung „Gründung und Nachfolge von Unternehmen – Entdecke deine berufliche Zukunft“ ein. \n\n\n\nDiese Veranstaltung bietet eine wertvolle Gelegenheit für Personen\, die ihre berufliche Zukunft in der Selbstständigkeit oder als Unternehmensnachfolger sehen\, auch wenn Sie noch in der schulischen oder beruflichen Ausbildung stehen: \n\n\n\nDatum: 17.09.2024 \n\n\n\nUhrzeit: 17.00 Uhr \n\n\n\nOrt: Fachschule für Bau\, Wirtschaft und Verkehr Gotha Trützschlerplatz 1\, 99867 Gotha \n\n\n\nDauer: ca. 2Std. \n\n\n\nDie Informationsveranstaltung richtet sich an alle\, die sich für eine Unternehmensgründung oder eine spätere Übernahme interessieren. Egal\, ob man bereits erste Ideen hat oder sich noch in der Frühphase der Planung befindet\, diese Veranstaltung bietet eine Plattform\, um wertvolle Informationen zu erhalten und sich auch mit anderen Interessierten auszutauschen. \n\n\n\nBei unserer Veranstaltung haben junge Menschen die Chance\, inspirierende Gründer-persönlichkeiten und erfolgreiche Unternehmer/innen sowie Unternehmensnachfolger kennenzulernen\, die bereits den Weg der Gründung oder Nachfolge gegangen sind. \n\n\n\nMan wird von ihren persönlichen Erfahrungen\, Herausforderungen und Erfolgen hören und von ihren wertvollen Ratschlägen profitieren können. \n\n\n\nDie Veranstaltung wird den Teilnehmenden wertvolle Antworten zu Fragen zur Finanzierung\, Marketingstrategien\, Unternehmensführung oder branchenspezifischen Aspekten geben und Anregungen geben\, wie man persönlichen Ziele erreichen kann. \n\n\n\nZur Anmeldung geht es hier https://doo.net/veranstaltung/168485/buchung
URL:https://fachschule-gotha.de/event/2-informationsveranstaltung-ufo-gruendung-und-nachfolge-von-unternehmen-entdecke-deine-berufliche-zukunft/
LOCATION:Trützschlerplatz 1\, Trützschlerplatz 1\, Gotha\, 99867\, Deutschland
ATTACH;FMTTYPE=image/jpeg:https://fachschule-gotha.de/wp-content/uploads/2024/02/IMG_2641-scaled.jpg
END:VEVENT
BEGIN:VEVENT
DTSTART;TZID=Europe/Berlin:20240817T100000
DTEND;TZID=Europe/Berlin:20240817T140000
DTSTAMP:20260423T163859
CREATED:20240730T185243Z
LAST-MODIFIED:20260114T104407Z
UID:3264-1723888800-1723903200@fachschule-gotha.de
SUMMARY:Tag der offenen Firmen in Schloss Friedrichsthal
DESCRIPTION:Am 17. August nehmen wir am diesjährigen Tag der offenen Firmen in Gotha teil.  \n\n\n\nIn Schloss Friedrichsthal stellen wir nicht nur unsere Aufstiegsweiterbildungen in Verkehrstechnik und Betriebswirtschaft vor. \n\n\n\nEbenso präsentieren sich die folgenden Unternehmen mit ihren Ausbildungsangeboten und Stellen: \n\n\n\nCantus Verkehrsgesellschaft mbH \n\n\n\nMEV Eisenbahn-Verkehrsgesellschaft mbH \n\n\n\nrailmen – Ein Unternehmensbereich der assoft GmbH
URL:https://fachschule-gotha.de/event/tag-der-offenen-firmen-in-schloss-friedrichsthal/
LOCATION:Schloss Friedrichsthal\, Friedrichstr. 5\, Gotha\, Thüringen\, 99867\, Deutschland
ATTACH;FMTTYPE=image/jpeg:https://fachschule-gotha.de/wp-content/uploads/2023/08/6-_Q133278_DPL_6.6_LR_4000.jpg
END:VEVENT
BEGIN:VEVENT
DTSTART;TZID=Europe/Berlin:20240516T180000
DTEND;TZID=Europe/Berlin:20240516T190000
DTSTAMP:20260423T163859
CREATED:20240514T064605Z
LAST-MODIFIED:20260114T104412Z
UID:3012-1715882400-1715886000@fachschule-gotha.de
SUMMARY:Online-Beratung der Fachrichtungen Bautechnik\, Versorgungstechnik und Informatik
DESCRIPTION:Am 16. Mai bieten wir von 18 Uhr bis 19 Uhr die Gelegenheit für Spätentschlossene\, sich über die Weiterbildung in unseren Fachrichtungen Bautechnik\, Versorgungstechnik und Informatik zu informieren. \n\n\n\nMit dem folgenden Link können Sie DSVGO-konform teilnehmen: https://sichere-videokonferenz.de/fcGCZ7fbuZRsz \n\n\n\nInformationen zu den Fachrichtungen finden Sie hier: \n\n\n\nBautechnik: https://fachschule-gotha.de/bautechnik/ \n\n\n\nVersorgungstechnik: https://fachschule-gotha.de/versorgungstechnik/ \n\n\n\nInformatik: https://fachschule-gotha.de/informatik/ \n\n\n\nVerbessern Sie Ihre Chancen auf dem Arbeitsmarkt durch eine Aufstiegs-Weiterbildung zur Staatlich geprüften Bautechnikerin/zum Staatlich geprüften Bautechniker\, bzw. Versorgungstechnikerin/Versorgungstechniker oder Informatikerin/Informatiker. \n\n\n\nDie Abschlüsse sind im deutschen Qualifikationsrahmen in der Stufe DQR 6 eingeordnet und damit auf der gleichen Stufe wie die Hochschulabschlüsse zum Bachelor. Nutzen Sie Ihre Berufserfahrung in unserem praxisorientierten Unterricht an der einzigen Fachschule in Thüringen in der Trägerschaft des Freistaats.  \n\n\n\nFinanzielle Förderungen bei Vollzeit-Ausbildung gibt es durch das Aufstiegs-BAföG. Bei Teilzeit ist es möglich\, weiter zu arbeiten und am Wochenende (Freitag und Samstag) in 3 Jahren den Abschluss zu erreichen.
URL:https://fachschule-gotha.de/event/online-bautechnik-versorgungstechnik-informatik/
ATTACH;FMTTYPE=image/png:https://fachschule-gotha.de/wp-content/uploads/2024/05/Online-Beratung-BVI-16.05.2024-1.png
END:VEVENT
BEGIN:VEVENT
DTSTART;TZID=Europe/Berlin:20240427T100000
DTEND;TZID=Europe/Berlin:20240427T130000
DTSTAMP:20260423T163859
CREATED:20240129T085752Z
LAST-MODIFIED:20260114T104426Z
UID:2405-1714212000-1714222800@fachschule-gotha.de
SUMMARY:3. Tag der offenen Tür
DESCRIPTION:Am 27. April 2024 findet der letzte Tag der offenen Tür in diesem Schuljahr statt. \nEr bietet Spätentschlossenen nochmals die Gelegenheit\, sich über die Möglichkeiten einer Aufstiegsweiterbildung zu \nStaatlich geprüften Betriebswirtinnen und Betriebswirten \noder \nStaatlich geprüften Technikerinnen und Technikern \nzu informieren und noch im nächsten Schuljahr 2024/2025 zu starten. \nDie Fachrichtung Bautechnik informiert über die Schwerpunkte  Hochbau\, Bauerneuerung und Bausanierung und Tiefbau. \nIn der Fachrichtung Betriebswirtschaft informieren wir über die Schwerpunkte Absatzwirtschaft/Marketing und Rechnungswesen/Controlling. Ebenso über die Zusatzqualifikation zum Staatlich geprüften technischen Betriebswirt\, die von Technikern und Meistern besucht werden kann. \nDie Fachrichtungen Informatik und Versorgungstechnik informieren über die Inhalte ihrer Ausbildungen. \nIn Schloss Friedrichsthal informiert die Fachrichtung  Verkehrstechnik über die Schwerpunkte Verkehrsmanagement\, Eisenbahnbetrieb und Personenverkehrssysteme. Hierzu gibt es um 10:30 Uhr und um 11:30 Uhr kurze Vorträge\, an denen über den folgenden Link auch online teilgenommen werden kann: \nhttps://sichere-videokonferenz.de/fcGCZ7fbuZRsz \nFür das leibliche Wohl sorgt im Gebäude Trützschlerplatz 1 der Förderverein Inform für 2 e.V. \nNähere Informationen zu den Angeboten finden Sie hier: https://fachschule-gotha.de/ausbildungsbereiche/ \nDie Thüringer Lehrpläne gibt es hier: https://www.schulportal-thueringen.de/lehrplaene/berufsbildende_schulen/fachschule
URL:https://fachschule-gotha.de/event/tag-der-offenen-tuer-3/
ATTACH;FMTTYPE=image/png:https://fachschule-gotha.de/wp-content/uploads/2024/01/Tag-der-offenen-Tuer_27.04.2024.png
ORGANIZER;CN="Staatliche Fachschule f%C3%BCr Bau%2C Wirtschaft und Verkehr":MAILTO:poststelle@fachschule-gotha.thueringen.de
END:VEVENT
BEGIN:VEVENT
DTSTART;TZID=Europe/Berlin:20240426T120000
DTEND;TZID=Europe/Berlin:20240426T143000
DTSTAMP:20260423T163859
CREATED:20240129T090038Z
LAST-MODIFIED:20240514T064752Z
UID:2408-1714132800-1714141800@fachschule-gotha.de
SUMMARY:10. Firmenkontaktbörse CONNECT 2024
DESCRIPTION:Am 26. April 2024 findet die 10. Firmenkontaktmesse „CONNECT“ an der Staatlichen Fachschule für Bau\, Wirtschaft und Verkehr Gotha statt.\n\nDie Messe ist von 12:00 bis 14:30 Uhr geöffnet.\n\nDie Teilnahme ist für Aussteller und Teilnehmer kostenfrei.
URL:https://fachschule-gotha.de/event/10-firmenkontaktboerse-connect-2024/
LOCATION:Trützschlerplatz 1\, Trützschlerplatz 1\, Gotha\, 99867\, Deutschland
ATTACH;FMTTYPE=image/png:https://fachschule-gotha.de/wp-content/uploads/2024/01/Save-the-Date.png
ORGANIZER;CN="Staatliche Fachschule f%C3%BCr Bau%2C Wirtschaft und Verkehr":MAILTO:poststelle@fachschule-gotha.thueringen.de
END:VEVENT
BEGIN:VEVENT
DTSTART;TZID=Europe/Berlin:20231104T090000
DTEND;TZID=Europe/Berlin:20231104T140000
DTSTAMP:20260423T163859
CREATED:20231020T162232Z
LAST-MODIFIED:20260114T104603Z
UID:2098-1699088400-1699106400@fachschule-gotha.de
SUMMARY:Wir beim Tag der offenen Firmen
DESCRIPTION:Am Samstag\, 04.11.2023 ist in Gotha von 9 Uhr bis 14 Uhr wieder Tag der offenen Firmen (https://www.facebook.com/tagderoffenenfirmengotha/). Wir sind dabei! Bei der erfolgreichen Gothaer Firma KMD (https://www.kmd-natursteine.de/) stellen wir unsere Aufstiegsweiterbildungen vor. \n 
URL:https://fachschule-gotha.de/event/wir-beim-tag-der-offenen-firmen/
LOCATION:KMD Natursteine\, Südstraße 15\, Gotha\, Thüringen\, 99867\, Deutschland
ATTACH;FMTTYPE=image/jpeg:https://fachschule-gotha.de/wp-content/uploads/2023/10/346046258_1477577546107641_2766228817444485997_n.jpg
ORGANIZER;CN="Staatliche Fachschule f%C3%BCr Bau%2C Wirtschaft und Verkehr":MAILTO:poststelle@fachschule-gotha.thueringen.de
END:VEVENT
END:VCALENDAR